BEGIN:VCALENDAR
VERSION:2.0
PRODID:-//CoxHealth Foundation - ECPv6.15.20//NONSGML v1.0//EN
CALSCALE:GREGORIAN
METHOD:PUBLISH
X-WR-CALNAME:CoxHealth Foundation
X-ORIGINAL-URL:https://www.coxhealthfoundation.com
X-WR-CALDESC:Events for CoxHealth Foundation
REFRESH-INTERVAL;VALUE=DURATION:PT1H
X-Robots-Tag:noindex
X-PUBLISHED-TTL:PT1H
BEGIN:VTIMEZONE
TZID:America/Chicago
BEGIN:DAYLIGHT
TZOFFSETFROM:-0600
TZOFFSETTO:-0500
TZNAME:CDT
DTSTART:20220313T080000
END:DAYLIGHT
BEGIN:STANDARD
TZOFFSETFROM:-0500
TZOFFSETTO:-0600
TZNAME:CST
DTSTART:20221106T070000
END:STANDARD
BEGIN:DAYLIGHT
TZOFFSETFROM:-0600
TZOFFSETTO:-0500
TZNAME:CDT
DTSTART:20230312T080000
END:DAYLIGHT
BEGIN:STANDARD
TZOFFSETFROM:-0500
TZOFFSETTO:-0600
TZNAME:CST
DTSTART:20231105T070000
END:STANDARD
BEGIN:DAYLIGHT
TZOFFSETFROM:-0600
TZOFFSETTO:-0500
TZNAME:CDT
DTSTART:20240310T080000
END:DAYLIGHT
BEGIN:STANDARD
TZOFFSETFROM:-0500
TZOFFSETTO:-0600
TZNAME:CST
DTSTART:20241103T070000
END:STANDARD
BEGIN:DAYLIGHT
TZOFFSETFROM:-0600
TZOFFSETTO:-0500
TZNAME:CDT
DTSTART:20250309T080000
END:DAYLIGHT
BEGIN:STANDARD
TZOFFSETFROM:-0500
TZOFFSETTO:-0600
TZNAME:CST
DTSTART:20251102T070000
END:STANDARD
END:VTIMEZONE
BEGIN:VEVENT
DTSTART;VALUE=DATE:20241012
DTEND;VALUE=DATE:20241013
DTSTAMP:20260425T101403
CREATED:20200923T201633Z
LAST-MODIFIED:20241004T194147Z
UID:6450-1728691200-1728777599@www.coxhealthfoundation.com
SUMMARY:Battle for Bell 8
DESCRIPTION:October 12 – Hammons Field\nTickets are $5 each and can be purchased at the gate.\nThe 8th annual “Battle for Bell” will take place on Saturday\, October 12\, 2024 at Hammons Field. Game One between the Mission University Patriots and Evangel University Valor baseball teams will start at noon with gates opening at 11 AM for the first game. The main event with Drury University Panther baseball facing off against the Missouri State Bears will begin at 6:30 PM with gates opening at 5 PM. \n \nTickets are $5 each and can be purchased at the gate. Online ticket sales are closed.\nParking will be available in the city lot across from Hammons Field.  All proceeds from the games will benefit the Howard Bell ALS Clinic at CoxHealth.\n \n  \nThis event honors the late Howard Bell\, a former standout for Parkview High School and then Missouri State University. Bell returned post college to coach 28 seasons at Springfield’s Glendale High School and its American Legion program\, earning well north of 800 combined victories. He became Glendale’s head coach in 2006 and ran the club through 2012\, compiling an 87-69 record and winning four Ozark Conference championships. Coach Bell was an inspiration to hundreds of teens and never more so than in 2012 as he publicly fought Lou Gehrig’s disease\, also known as amyotrophic lateral sclerosis (ALS). He passed away in March 2013 at the age of 48\, but only after dropping by school every day to visit with students and to attend his team’s practices and games. His courage in this fight with a terminal disease inspired the “Battle For Bell” event which led to the funding of the first ALS Clinic in Southwest Missouri\, located at CoxHealth.\n \n 
URL:https://www.coxhealthfoundation.com/event/battle-for-bell/
ATTACH;FMTTYPE=image/jpeg:https://www.coxhealthfoundation.com/wp-content/uploads/2023_BattleForBell2_TicketArt_5x2-2.jpg
END:VEVENT
BEGIN:VEVENT
DTSTART;VALUE=DATE:20230718
DTEND;VALUE=DATE:20231018
DTSTAMP:20260425T101403
CREATED:20220718T230437Z
LAST-MODIFIED:20230719T192432Z
UID:23433-1689638400-1697587199@www.coxhealthfoundation.com
SUMMARY:Kansas City Chiefs Ticket Raffle to Support Cox College
DESCRIPTION:Two Big Wins — Two tickets to a Kansas City Chiefs game and support for Cox College students!\nPurchase your raffle tickets today for the chance to see the Kansas City Chiefs play the Philadelphia Eagles.\nThe game is Monday\, November 20 at 7:15pm.\nThe tickets are Section 111\, Row 21\, Seats 18-19 and it comes with one parking pass.\nThe tickets and parking pass are valued at $1\,300 in total.\nOne ticket for $10 and three for $20. The drawing will be held Wednesday\, October 18\, 2023.\nEnter beginning August 8!
URL:https://www.coxhealthfoundation.com/event/kansas-city-chiefs-ticket-raffle-to-support-cox-college/
ATTACH;FMTTYPE=image/png:https://www.coxhealthfoundation.com/wp-content/uploads/chiefs_raffle.png
END:VEVENT
END:VCALENDAR