BEGIN:VCALENDAR
VERSION:2.0
PRODID:-//CoxHealth Foundation - ECPv6.15.20//NONSGML v1.0//EN
CALSCALE:GREGORIAN
METHOD:PUBLISH
X-WR-CALNAME:CoxHealth Foundation
X-ORIGINAL-URL:https://www.coxhealthfoundation.com
X-WR-CALDESC:Events for CoxHealth Foundation
REFRESH-INTERVAL;VALUE=DURATION:PT1H
X-Robots-Tag:noindex
X-PUBLISHED-TTL:PT1H
BEGIN:VTIMEZONE
TZID:America/Chicago
BEGIN:DAYLIGHT
TZOFFSETFROM:-0600
TZOFFSETTO:-0500
TZNAME:CDT
DTSTART:20230312T080000
END:DAYLIGHT
BEGIN:STANDARD
TZOFFSETFROM:-0500
TZOFFSETTO:-0600
TZNAME:CST
DTSTART:20231105T070000
END:STANDARD
BEGIN:DAYLIGHT
TZOFFSETFROM:-0600
TZOFFSETTO:-0500
TZNAME:CDT
DTSTART:20240310T080000
END:DAYLIGHT
BEGIN:STANDARD
TZOFFSETFROM:-0500
TZOFFSETTO:-0600
TZNAME:CST
DTSTART:20241103T070000
END:STANDARD
BEGIN:DAYLIGHT
TZOFFSETFROM:-0600
TZOFFSETTO:-0500
TZNAME:CDT
DTSTART:20250309T080000
END:DAYLIGHT
BEGIN:STANDARD
TZOFFSETFROM:-0500
TZOFFSETTO:-0600
TZNAME:CST
DTSTART:20251102T070000
END:STANDARD
END:VTIMEZONE
BEGIN:VEVENT
DTSTART;VALUE=DATE:20240131
DTEND;VALUE=DATE:20240301
DTSTAMP:20260424T215816
CREATED:20240124T175757Z
LAST-MODIFIED:20240319T192008Z
UID:24159-1706659200-1709251199@www.coxhealthfoundation.com
SUMMARY:Heros For Healthy Heart Campaign
DESCRIPTION:This Event is completed.\nAt the heart of our community lies a shared commitment to the well-being of every member. Today\, we reach out to you with a call to action to support heart health for a stronger\, healthier community. \nDownload Flyer  \nHeart disease continues to be a leading cause of illness; however\, behind every statistic is a loved one. That is why\, this February we are reaching out to you to support our Heroes for Healthy Hearts Campaign. \nHere are two ways you can make a difference for heart health: \n1. Will you do your part and fill our Heart?\nSupport heart disease prevention by purchasing a heart to fill a 6 x 6 foot heart banner that will be displayed at the lobby of the Wheeler Heart and Vascular Center lobby. Each heart is $5. \n2. Support Heart Health with a donation to the Wheeler Heart and Vascular Fund.\nThis fund helps to address daily needs of heart patients at CoxHealth\, including for medications\, rehab and home support. \nEvery donation will remain in our community to support local patients who are medically underserved and to help us build our current cardiology programs to better serve heart patients today and into the future. \nComplete the form below to make your tax-deductible donation today.\nThank you for being a HERO for Healthy Hearts. \n  \n\n 
URL:https://www.coxhealthfoundation.com/event/heros-for-healthy-heart-campaign/
ATTACH;FMTTYPE=image/jpeg:https://www.coxhealthfoundation.com/wp-content/uploads/featured-1.jpg
END:VEVENT
END:VCALENDAR