BEGIN:VCALENDAR
VERSION:2.0
PRODID:-//CoxHealth Foundation - ECPv6.15.20//NONSGML v1.0//EN
CALSCALE:GREGORIAN
METHOD:PUBLISH
X-WR-CALNAME:CoxHealth Foundation
X-ORIGINAL-URL:https://www.coxhealthfoundation.com
X-WR-CALDESC:Events for CoxHealth Foundation
REFRESH-INTERVAL;VALUE=DURATION:PT1H
X-Robots-Tag:noindex
X-PUBLISHED-TTL:PT1H
BEGIN:VTIMEZONE
TZID:America/Chicago
BEGIN:DAYLIGHT
TZOFFSETFROM:-0600
TZOFFSETTO:-0500
TZNAME:CDT
DTSTART:20230312T080000
END:DAYLIGHT
BEGIN:STANDARD
TZOFFSETFROM:-0500
TZOFFSETTO:-0600
TZNAME:CST
DTSTART:20231105T070000
END:STANDARD
BEGIN:DAYLIGHT
TZOFFSETFROM:-0600
TZOFFSETTO:-0500
TZNAME:CDT
DTSTART:20240310T080000
END:DAYLIGHT
BEGIN:STANDARD
TZOFFSETFROM:-0500
TZOFFSETTO:-0600
TZNAME:CST
DTSTART:20241103T070000
END:STANDARD
BEGIN:DAYLIGHT
TZOFFSETFROM:-0600
TZOFFSETTO:-0500
TZNAME:CDT
DTSTART:20250309T080000
END:DAYLIGHT
BEGIN:STANDARD
TZOFFSETFROM:-0500
TZOFFSETTO:-0600
TZNAME:CST
DTSTART:20251102T070000
END:STANDARD
END:VTIMEZONE
BEGIN:VEVENT
DTSTART;TZID=America/Chicago:20240301T180000
DTEND;TZID=America/Chicago:20240301T220000
DTSTAMP:20260424T224243
CREATED:20230111T173833Z
LAST-MODIFIED:20231201T180858Z
UID:23624-1709316000-1709330400@www.coxhealthfoundation.com
SUMMARY:CRAP Party
DESCRIPTION:Join us for the Colo Rectal Awareness Party\, Friday\, March 1\, 2024 at the White River Room. Join us for the most fun you can have talking about your colon and bowel movements. All kidding aside\, this event supports the one and only program in our region that provides free colonoscopies for patients who need but cannot afford this cancer stopping prevention test. More information to come on this site. Table sales and sponsorship will begin December 1\, 2023. The event includes dinner\, casino and colon themed games… plus a great silent auction. For more information email lisa.alexander@coxhealth.com      \nCRAP is BACK!\nThe Colo Rectal Awareness Party is Friday\, March 1\, 2024 at the Bass Pro White River Room. Join us for the most fun you can have raising funds to provide free colonoscopies. This event helps to ensure those who need but cannot afford this prevention test\, can receive it! You can sponsor (click link for Sponsor invite above) or purchase a table (click link to take to the doc above that says Party Invitation) or donate an auction item for the event. \nTables are $2\,500 for eight people. Contact us at 417-269-7109 for more information or to contact us for a donation pick-up. Please email your table attendees to lisa.alexander@coxhealth.com. Thank you! \n\n\nMarch 1\, 2024\nWhite River Room at Bass Pro Shops\nJohnny Morris Conservation Center\n6:00 pm Doors Open and Auction Starts\nElectronic Bidding – Bring Your Phone!\n7:00 pm – Dinner Served\n8:00pm-10pm – Action & Games\nYES\, you know you have missed the most fun party in town!\nWell\, it’s BACK! Come join us for the most fun you can have talking about toilet paper\, poo and fighting cancer.  We are a silly night with a serious message.  Your attendance can and will help us save lives and fight a preventable cancer. \nTables of 8 are available\, attire is business/cocktail. Dress up\, or down\, but we would love it if you wore brown.\n$2\,500 a sponsored table \nGreat food and outstanding entertainment. \nAll proceeds will help provide free colonoscopies for patients who need but cannot afford this important prevention test. \nA special thank you to our Chairmen of CRAP! \nJose’ Dominguez\, MD\nJohn Trombold\, MD\nCharles Woodall\, II\, MD\nShawn Usery\, MD\nSanjay Havaldar\, MD\nRakesh Hegde\, MD\nMegan Nicholas\, MD \n  \n\n\nClick on images below to download PDF versions\n  \n\n \n\n\n\nReserve Your Table
URL:https://www.coxhealthfoundation.com/event/crap-party/
LOCATION:White River Conference Center
ATTACH;FMTTYPE=image/jpeg:https://www.coxhealthfoundation.com/wp-content/uploads/logo.jpg
END:VEVENT
END:VCALENDAR