BEGIN:VCALENDAR
VERSION:2.0
PRODID:-//CoxHealth Foundation - ECPv6.15.20//NONSGML v1.0//EN
CALSCALE:GREGORIAN
METHOD:PUBLISH
X-WR-CALNAME:CoxHealth Foundation
X-ORIGINAL-URL:https://www.coxhealthfoundation.com
X-WR-CALDESC:Events for CoxHealth Foundation
REFRESH-INTERVAL;VALUE=DURATION:PT1H
X-Robots-Tag:noindex
X-PUBLISHED-TTL:PT1H
BEGIN:VTIMEZONE
TZID:America/Chicago
BEGIN:DAYLIGHT
TZOFFSETFROM:-0600
TZOFFSETTO:-0500
TZNAME:CDT
DTSTART:20240310T080000
END:DAYLIGHT
BEGIN:STANDARD
TZOFFSETFROM:-0500
TZOFFSETTO:-0600
TZNAME:CST
DTSTART:20241103T070000
END:STANDARD
BEGIN:DAYLIGHT
TZOFFSETFROM:-0600
TZOFFSETTO:-0500
TZNAME:CDT
DTSTART:20250309T080000
END:DAYLIGHT
BEGIN:STANDARD
TZOFFSETFROM:-0500
TZOFFSETTO:-0600
TZNAME:CST
DTSTART:20251102T070000
END:STANDARD
BEGIN:DAYLIGHT
TZOFFSETFROM:-0600
TZOFFSETTO:-0500
TZNAME:CDT
DTSTART:20260308T080000
END:DAYLIGHT
BEGIN:STANDARD
TZOFFSETFROM:-0500
TZOFFSETTO:-0600
TZNAME:CST
DTSTART:20261101T070000
END:STANDARD
END:VTIMEZONE
BEGIN:VEVENT
DTSTART;VALUE=DATE:20250602
DTEND;VALUE=DATE:20250709
DTSTAMP:20260423T135248
CREATED:20250602T152802Z
LAST-MODIFIED:20250708T151638Z
UID:24871-1748822400-1752019199@www.coxhealthfoundation.com
SUMMARY:Jason Aldean Raffle Tickets
DESCRIPTION:Jason Aldean: Value $970 \nPackage includes: \n\n2 VIP LOUNGE TICKETS (SEC 6\, Row H\, Seats 26-27) Includes: Pre-show acoustic performance + Q&A with Jason Aldean\, light snacks & cash bar with 1 drink ticket\, games\, photo booth\, VIP gift item & laminate\, tour merch shopping before door time\, photo op in front of VIP backdrop\, on-site VIP host & dedicated entrance.\nLocation: Walmart AMP\nDate: Friday\, July 18th 2025\n\nRaffle tickets are available for $10 a ticket or (3) for $20. \nWinner will be drawn on Tuesday\, July 8th. \n 
URL:https://www.coxhealthfoundation.com/event/jason-aldean-raffle-tickets/
ATTACH;FMTTYPE=image/png:https://www.coxhealthfoundation.com/wp-content/uploads/Jason-Aldean-Raffle.png
END:VEVENT
END:VCALENDAR