BEGIN:VCALENDAR
VERSION:2.0
PRODID:-//CoxHealth Foundation - ECPv6.15.20//NONSGML v1.0//EN
CALSCALE:GREGORIAN
METHOD:PUBLISH
X-ORIGINAL-URL:https://www.coxhealthfoundation.com
X-WR-CALDESC:Events for CoxHealth Foundation
REFRESH-INTERVAL;VALUE=DURATION:PT1H
X-Robots-Tag:noindex
X-PUBLISHED-TTL:PT1H
BEGIN:VTIMEZONE
TZID:America/Chicago
BEGIN:DAYLIGHT
TZOFFSETFROM:-0600
TZOFFSETTO:-0500
TZNAME:CDT
DTSTART:20240310T080000
END:DAYLIGHT
BEGIN:STANDARD
TZOFFSETFROM:-0500
TZOFFSETTO:-0600
TZNAME:CST
DTSTART:20241103T070000
END:STANDARD
BEGIN:DAYLIGHT
TZOFFSETFROM:-0600
TZOFFSETTO:-0500
TZNAME:CDT
DTSTART:20250309T080000
END:DAYLIGHT
BEGIN:STANDARD
TZOFFSETFROM:-0500
TZOFFSETTO:-0600
TZNAME:CST
DTSTART:20251102T070000
END:STANDARD
BEGIN:DAYLIGHT
TZOFFSETFROM:-0600
TZOFFSETTO:-0500
TZNAME:CDT
DTSTART:20260308T080000
END:DAYLIGHT
BEGIN:STANDARD
TZOFFSETFROM:-0500
TZOFFSETTO:-0600
TZNAME:CST
DTSTART:20261101T070000
END:STANDARD
END:VTIMEZONE
BEGIN:VEVENT
DTSTART;TZID=America/Chicago:20250718T080000
DTEND;TZID=America/Chicago:20251021T170000
DTSTAMP:20260423T120123
CREATED:20250718T224032Z
LAST-MODIFIED:20250718T224448Z
UID:24969-1752825600-1761066000@www.coxhealthfoundation.com
SUMMARY:Chiefs Ticket Raffle
DESCRIPTION:Kansas City Chiefs Ticket Raffle to Support Cox College Students!\nPurchase your raffle tickets today for the chance to see the Kansas City Chiefs play the Houston Texans\nThe game is Sunday\, December 7 at 7:20pm.\nThe tickets are Section 118\, Row 21\, Seats 6-7 and it comes with one red parking pass. \nThe tickets and parking pass are valued at $1\,300 in total. \nOne ticket for $10 and three for $20. The drawing will be held Wednesday\, October 22. \nTicket sales are no longer available. \n  \n 
URL:https://www.coxhealthfoundation.com/event/chiefs-ticket-raffle/
ATTACH;FMTTYPE=image/png:https://www.coxhealthfoundation.com/wp-content/uploads/chiefs_raffle.png
END:VEVENT
BEGIN:VEVENT
DTSTART;TZID=America/Chicago:20250819T180000
DTEND;TZID=America/Chicago:20250819T193000
DTSTAMP:20260423T120123
CREATED:20250707T232847Z
LAST-MODIFIED:20250707T233901Z
UID:24934-1755626400-1755631800@www.coxhealthfoundation.com
SUMMARY:August Make-A-Will-Month Seminars - Springfield
DESCRIPTION:Mark your calender for two seminars in August to recognize Make-A-Will Month. \n  \nSpringfield Make-A-Seminar August 19th at 6:00 PM Ozark Room at Meyer Orthopedic and Rehabilitation Hospital. \nJoin us for an engaging evening focused on financial and estate planning\, featuring guest speakers Paula J Dougherty – Private Wealth Advisor\, Ameriprise Financial Services\, LLC and Anne Sallee Mason with Neale & Newman. \n  \nBranson Make-A-Will Month Seminar August 5 at 6:00 PM Cox Medical Center Branson \nJoin us for an engaging evening focused on financial and estate planning\, featuring guest speaker Blake Robbins\, CEO of Robbins Financial. \nFor both seminars\, RSVP: chf@coxhealth.com
URL:https://www.coxhealthfoundation.com/event/august-make-a-will-month-seminars-springfield/
LOCATION:Meyer Orthopedic and Rehabilitation Hospital\, 3535 South National Avenue\, Springfield\, MO\, 65807
ATTACH;FMTTYPE=image/jpeg:https://www.coxhealthfoundation.com/wp-content/uploads/August-Make-a-will-seminars.jpg
END:VEVENT
END:VCALENDAR