BEGIN:VCALENDAR
VERSION:2.0
PRODID:-//CoxHealth Foundation - ECPv6.15.20//NONSGML v1.0//EN
CALSCALE:GREGORIAN
METHOD:PUBLISH
X-ORIGINAL-URL:https://www.coxhealthfoundation.com
X-WR-CALDESC:Events for CoxHealth Foundation
REFRESH-INTERVAL;VALUE=DURATION:PT1H
X-Robots-Tag:noindex
X-PUBLISHED-TTL:PT1H
BEGIN:VTIMEZONE
TZID:America/Chicago
BEGIN:DAYLIGHT
TZOFFSETFROM:-0600
TZOFFSETTO:-0500
TZNAME:CDT
DTSTART:20240310T080000
END:DAYLIGHT
BEGIN:STANDARD
TZOFFSETFROM:-0500
TZOFFSETTO:-0600
TZNAME:CST
DTSTART:20241103T070000
END:STANDARD
BEGIN:DAYLIGHT
TZOFFSETFROM:-0600
TZOFFSETTO:-0500
TZNAME:CDT
DTSTART:20250309T080000
END:DAYLIGHT
BEGIN:STANDARD
TZOFFSETFROM:-0500
TZOFFSETTO:-0600
TZNAME:CST
DTSTART:20251102T070000
END:STANDARD
BEGIN:DAYLIGHT
TZOFFSETFROM:-0600
TZOFFSETTO:-0500
TZNAME:CDT
DTSTART:20260308T080000
END:DAYLIGHT
BEGIN:STANDARD
TZOFFSETFROM:-0500
TZOFFSETTO:-0600
TZNAME:CST
DTSTART:20261101T070000
END:STANDARD
END:VTIMEZONE
BEGIN:VEVENT
DTSTART;VALUE=DATE:20251020
DTEND;VALUE=DATE:20251231
DTSTAMP:20260423T061552
CREATED:20251022T214714Z
LAST-MODIFIED:20251103T213054Z
UID:25119-1760918400-1767139199@www.coxhealthfoundation.com
SUMMARY:Knot Forgotten 2025
DESCRIPTION:If you would like to honor another special person or boost the spirits of those fighting against cancer\, please consider a Knot Forgotten bow to accomplish both. All bows include a message tag with your name and the name of the person or persons you are honoring. Make your message specific to your loved one\, or one for all who will see and read. The bows are placed on a tree at Hulston Cancer Center and in the lobby of Cox South Hospital in Springfield. Each donation directly benefits cancer patients at CoxHealth through the Glauser Oncology Fund program that provides Patient Advocates and resources to every patient in need. \nThank you to Presenting Sponsors: Auxiliary of CoxHealth\, Charlie and Mary Beth O’Reilly.    \nView/Print Brochure\nSales have completed for this year.
URL:https://www.coxhealthfoundation.com/event/knot-forgotten-2025/
ATTACH;FMTTYPE=image/jpeg:https://www.coxhealthfoundation.com/wp-content/uploads/knot_forgotten.jpg
END:VEVENT
BEGIN:VEVENT
DTSTART;TZID=America/Chicago:20251113T180000
DTEND;TZID=America/Chicago:20251113T220000
DTSTAMP:20260423T061552
CREATED:20250821T135322Z
LAST-MODIFIED:20250825T180149Z
UID:25021-1763056800-1763071200@www.coxhealthfoundation.com
SUMMARY:Raise The Barn
DESCRIPTION:RAISE THE BARN\nA TRIVIA NIGHT FOR\nCox Barton County Hospital\nThursday\, November 13\nMemorial Hall\nDoors Open at 6pm\, Trivia Starts at 7pm\nEvent MC – Dr. John Alden\nSilent Auction \nAll Proceeds Benefit Cox Barton County Hospital \n\nSponsorship Levels \nThe Pioneer Partner $1\,000 \n\n4 Tables at the event\n1-Year membership to advertise your business to all CoxHealth employees with the Community Partners Program\nMeal Tickets and snack bowl\nSpecial team gift\nBusiness logo and name on table\nPremium placement of business logo on social media\nBusiness logo on Handbid silent auction site\nBusiness shoutout out during event (x2)\n\nThe Trail Sponsor $500 \n\n3 Tables at the event\n6-month membership to advertise your business to all CoxHealth employees with the Community Partners Program\nSnack bowl\nSpecial team gift\nBusiness logo and name on table\nBusiness logo and name on sponsored item (food or prize)\nSecondary placement of business logo and name on social media and event announcements\nBusiness shoutout during event\n\nPrairie Pal $250 \n\n2 tables at event\nBusiness logo and name on table\n3-month membership to advertise your business to all CoxHealth employees with the Community Partners Program\nSpecial team gift\n\nTable purchase: $100 (8 Tickets) \nLamar Trivia Night Sponsor Packet \n \nQUESTIONS:\nContact Didem Koroglu at didem.koroglu@coxhealth.com\nA portion of your gift is tax-deductible as allowed by law. \nCoxHealth Foundation is a 501(c)3 not for profit organization. \n  \n  \n\nPurchase Online
URL:https://www.coxhealthfoundation.com/event/raise-the-barn/
ATTACH;FMTTYPE=image/jpeg:https://www.coxhealthfoundation.com/wp-content/uploads/Raise-The-Barn-horizontal.jpg
END:VEVENT
END:VCALENDAR