BEGIN:VCALENDAR
VERSION:2.0
PRODID:-//CoxHealth Foundation - ECPv6.15.20//NONSGML v1.0//EN
CALSCALE:GREGORIAN
METHOD:PUBLISH
X-ORIGINAL-URL:https://www.coxhealthfoundation.com
X-WR-CALDESC:Events for CoxHealth Foundation
REFRESH-INTERVAL;VALUE=DURATION:PT1H
X-Robots-Tag:noindex
X-PUBLISHED-TTL:PT1H
BEGIN:VTIMEZONE
TZID:America/Chicago
BEGIN:DAYLIGHT
TZOFFSETFROM:-0600
TZOFFSETTO:-0500
TZNAME:CDT
DTSTART:20250309T080000
END:DAYLIGHT
BEGIN:STANDARD
TZOFFSETFROM:-0500
TZOFFSETTO:-0600
TZNAME:CST
DTSTART:20251102T070000
END:STANDARD
BEGIN:DAYLIGHT
TZOFFSETFROM:-0600
TZOFFSETTO:-0500
TZNAME:CDT
DTSTART:20260308T080000
END:DAYLIGHT
BEGIN:STANDARD
TZOFFSETFROM:-0500
TZOFFSETTO:-0600
TZNAME:CST
DTSTART:20261101T070000
END:STANDARD
BEGIN:DAYLIGHT
TZOFFSETFROM:-0600
TZOFFSETTO:-0500
TZNAME:CDT
DTSTART:20270314T080000
END:DAYLIGHT
BEGIN:STANDARD
TZOFFSETFROM:-0500
TZOFFSETTO:-0600
TZNAME:CST
DTSTART:20271107T070000
END:STANDARD
END:VTIMEZONE
BEGIN:VEVENT
DTSTART;VALUE=DATE:20260106
DTEND;VALUE=DATE:20260301
DTSTAMP:20260422T165959
CREATED:20241231T194026Z
LAST-MODIFIED:20260108T125212Z
UID:24424-1767657600-1772323199@www.coxhealthfoundation.com
SUMMARY:Heros For Healthy Heart Campaign 2026
DESCRIPTION:At the heart of our community lies a shared commitment to the well-being of every member. Today\, we reach out to you with a call to action to support heart health for a stronger\, healthier community.\nHere are several ways you can make a difference for heart health:\n1. Will you do your part and fill our Heart?\nSupport heart disease prevention by purchasing a heart to fill a 6 x 6 foot heart banner that will be displayed at the lobby of the Wheeler Heart and Vascular Center lobby. Each heart is $5. \n2. Support Heart Health with a donation to the Wheeler Heart and Vascular Fund.\nThis fund helps to address daily needs of heart patients at CoxHealth\, including for medications\, rehab and home support. \n3. Fill the Heart Sponsor: $5\,000 \nBenefits include: \n\nLogo on every paper heart sold at various CoxHealth locations\, such as Wheeler Heart and Vascular Center\, Cox Monett\, Cox Barton and Cox Branson hospitals\nLogo on the heart month banner located at the Wheeler Heart and Vascular Center lobby\nLogo on direct mail to 3\,000+ homes\nLogo placement on digital billboard ads at four high-traffic locations throughout Springfield\, generating up to 309\,700 impressions over one month.\nSponsoring organization will also be featured on various local electronic and print media as well as Cox Connect Daily (reaching 14\,000 CoxHealth employees)\n\n4. Educational Series Sponsor: $5\,000 \nHeart Healthy Educational Series This year includes an expanded quarterly educational series promoting heart health. The first event focuses on blood pressure education. The first event: Know Your Pressure: Community outreach is scheduled for February 19th at 7:00pm at Homewood Suites by Hilton Springfield Medical District. \nBenefits include: \n\nPremier logo placement on all event invitations and mailings\nOpportunity for opening remarks recognition\nOption for a branded giveaway to event attendees\nTable opportunity at event\nSponsoring organization will also be featured on various electronic and print media as well as Cox Connect Daily (reaching 14\,000 CoxHealth employees)\nOne-year Community Partners Program membership offering advertising of your product or service to 14\,000 CoxHealth employees (A value of $1\,800)\n\nYour support will remain in our community to help local patients who are medically underserved and to help us build our current cardiology programs to better serve heart patients today and into the future. \nComplete the form below to make a donation or sponsorship contribution. \n\nThank you for being a HERO for Healthy Hearts. \nThis event has concluded \n 
URL:https://www.coxhealthfoundation.com/event/heros-for-healthy-heart-campaign-2026/
ATTACH;FMTTYPE=image/jpeg:https://www.coxhealthfoundation.com/wp-content/uploads/featured-1.jpg
END:VEVENT
BEGIN:VEVENT
DTSTART;TZID=America/Chicago:20260126T080000
DTEND;TZID=America/Chicago:20260228T170000
DTSTAMP:20260422T165959
CREATED:20260126T224314Z
LAST-MODIFIED:20260127T201458Z
UID:25302-1769414400-1772298000@www.coxhealthfoundation.com
SUMMARY:Pizza for a Cause
DESCRIPTION:Enjoy pizza while supporting Heart Month! Papa Johns is offering 30% off your entire order\, and 10% of every purchase will be donated back to the Foundation. Use Cox30 to receive your discount. \nThis offer is valid at all Springfield\, Ozark\, and Joplin locations. Make sure to grab a slice and make a difference.
URL:https://www.coxhealthfoundation.com/event/pizza-for-a-cause/
ATTACH;FMTTYPE=image/png:https://www.coxhealthfoundation.com/wp-content/uploads/Papa-Johns-Flyer.png
END:VEVENT
BEGIN:VEVENT
DTSTART;TZID=America/Chicago:20260306T173000
DTEND;TZID=America/Chicago:20260306T220000
DTSTAMP:20260422T165959
CREATED:20251103T194526Z
LAST-MODIFIED:20260303T145801Z
UID:25144-1772818200-1772834400@www.coxhealthfoundation.com
SUMMARY:Give A CRAP! 2026
DESCRIPTION:You are invited to GIVE A CRAP and help us save lives and fight a preventable cancer. Join us for the 16th Annual Colo-Rectal Awareness Party! This great night of dinner\, entertainment and education benefits the Colorectal Awareness Fund to help provide free colonoscopies for patients who need but cannot afford this important prevention test.\nMarch 6th\, 2026 White River Room at Bass Pro Shops 5:30pm – 10:00pm\nEVENING ITINERARY: \n\n5:30pm Doors Open\, Games Open\, Auction Preview\n6:30pm Dinner Served\n7:00pm The Real Rebutt; Dr. Ravinder Mankoo\n7:45pm Live Auction\n8:00pm Good Time Games\n9:00pm Grand Prize Drawing Guests may enter into any of the 5 Grand Prizes with their prize tickets!\n\nTo sponsor or reserve your table\, contact Lisa Alexander at 417-269-7109 or lisa.alexander@coxhealth.com or Chris Ijames at 417-269-7037 or chris.ijames@coxhealth.com \nThis event SELLS OUT annually\, so reserve your sponsorship today and make sure not to miss out on the most fun party of the year! \nFor more information click this link to our sponsorship brochure: \nSPONSORSHIP LEVELS: \n\n$1\,500 Table Sponsor: One table of 8. A bottle of wine and an outstanding meal plus a whole lot of fun!\n$2\,500 Colonoscopy Partner: Your gift helps provide another free screening to someone in need. Our thanks includes a table of 8\, two bottles of wine\, 4 prize tickets per guest\, stage recognition and signage.\n$5\,000 Education Partner: Your gift helps us educate the community on this important screening and guides them to the program. Our thanks includes two tables of 8\, two bottles of wine per table\, 8 prize tickets per guest\, stage recognition and signage at the Giant Colon.\n$7\,500 Program Enhancement Partner: Your gift allows us to provide follow-up care to patients where additional screening is needed. Our thanks includes three tables of 8\, two bottles of wine per table\, 12 prize tickets per guest\, stage recognition\, signage and AV recognition.\n$10\,000 Presenting Sponsor: your gift allows us to expand our program and help more patients this year. Our thanks includes four tables of 8\, two bottles of wine per table\, 18 prize tickets per guest\, stage recognition\, signage\, AV and Auction signage as well as ability to provide materials to guests at each table.\n\n\n  \n\nReserve Your Table\nThis event table reservations is closed.
URL:https://www.coxhealthfoundation.com/event/give-a-crap/
LOCATION:White River Conference Center
ATTACH;FMTTYPE=image/jpeg:https://www.coxhealthfoundation.com/wp-content/uploads/2026-CRAP-Sponsorship-email-1.jpg
END:VEVENT
BEGIN:VEVENT
DTSTART;VALUE=DATE:20260311
DTEND;VALUE=DATE:20260401
DTSTAMP:20260422T165959
CREATED:20260311T121240Z
LAST-MODIFIED:20260311T182652Z
UID:25324-1773187200-1775001599@www.coxhealthfoundation.com
SUMMARY:Met in Monett LIVE Art Auction
DESCRIPTION:The “Met in Monett” to benefit the Cox Monett Diabetes Prevention Fund saw artist Roberto Regalado of Laughingwell Studios doing a live art painting. That one of a kind piece is now complete and ready to be auctioned to the highest bidder. The painting portrays a Frisco train that once had Monett on its daily route. The artist used a photograph from the state historical archives to replicate the train as it was in that era. \nAbout the artist: Roberto Regalado began his career painting in southern California under the tutelage of renowned muralist Marv Brehm. Regalado’s skills were quickly recognized and his mural art became in demand across southern California in restaurants\, business and in private homes. His skills took him to Las Vegas where he provided large scale mural projects for some of the most famous casinos. After moving to Missouri\, Regalado and his wife Linda Spencer became the artists of choice of Johnny Morris\, Bass Pro and Cabela owner.  Their work can be viewed in more than 50 locations. The pair is also responsible for the Children’s Village\, the first hospital based community art project raising over $1 million dollars for the Children’s Miracle Network. \nTo bid on this beautiful piece\, please email CHF@coxhealth.com  or click here to place your bid through Handbid.  If submitting a bid by email\, please include your name\, phone number\, and bid amount. The auction will be open through March 31st. \nMinimum bid is $350
URL:https://www.coxhealthfoundation.com/event/met-in-monett-live-art-auction/
ATTACH;FMTTYPE=image/jpeg:https://www.coxhealthfoundation.com/wp-content/uploads/frisco-train.jpg
END:VEVENT
BEGIN:VEVENT
DTSTART;VALUE=DATE:20260502
DTEND;VALUE=DATE:20260503
DTSTAMP:20260422T165959
CREATED:20260326T164259Z
LAST-MODIFIED:20260326T164319Z
UID:25364-1777680000-1777766399@www.coxhealthfoundation.com
SUMMARY:BeF.A.S.T 5k Run & Walk Presented by CoxHealth Foundation
DESCRIPTION:Sign up here.
URL:https://www.coxhealthfoundation.com/event/bef-a-s-t-5k-run-walk-presented-by-coxhealth-foundation/
END:VEVENT
BEGIN:VEVENT
DTSTART;VALUE=DATE:20260507
DTEND;VALUE=DATE:20260508
DTSTAMP:20260422T165959
CREATED:20260316T143517Z
LAST-MODIFIED:20260331T161409Z
UID:25336-1778112000-1778198399@www.coxhealthfoundation.com
SUMMARY:Kendra Scott Pop Up Shop
DESCRIPTION:Shine Bright\, Do Good\nJoin us for a Kendra gives back mother’s day event! \nThursday May 7th\n10:am – 3:00pm\nCafeteria A CoxSouth
URL:https://www.coxhealthfoundation.com/event/kendra-scott-pop-up-shop/
ATTACH;FMTTYPE=image/png:https://www.coxhealthfoundation.com/wp-content/uploads/Mothers-day-Kendra-Scott-Pop-Up-Shop.png
END:VEVENT
BEGIN:VEVENT
DTSTART;TZID=America/Chicago:20260514T173000
DTEND;TZID=America/Chicago:20260514T190000
DTSTAMP:20260422T165959
CREATED:20260330T170443Z
LAST-MODIFIED:20260330T213625Z
UID:25369-1778779800-1778785200@www.coxhealthfoundation.com
SUMMARY:Cooking for a Healthy Heart
DESCRIPTION:Hy-Vee Grocery Store Springfield\, MO\nThursday\, May 14 from 5:30 pm to 7 pm \nFree CoxHealth heart healthy cooking class\, part of the Heart Health Education Series sponsored by SGC FoodService. \n \n  \nCome enjoy an interactive evening at Hy-Vee where you will learn how to make smarter\, heart-healthy choices for summer eating\, including an “eat this\, not that” BBQ edition. The event features a live cooking demonstration led by Maddy Clemons\, Hy-Vee’s registered dietitian\, who will walk you through how to prepare healthier versions of classic summer dishes and explain why certain ingredients support heart health. You will have the chance to cook in small groups\, ask questions\, and enjoy the meal together family style. Guests will also hear from Dr. Chobufo\, a cardiologist\, who will share insights on heart health. \nThis is a free event\, but registration is required as space is limited to maintain a hands-on experience. \nSponsored by: SGC FoodService
URL:https://www.coxhealthfoundation.com/event/cooking-for-a-healthy-heart/
END:VEVENT
BEGIN:VEVENT
DTSTART;VALUE=DATE:20260727
DTEND;VALUE=DATE:20260728
DTSTAMP:20260422T165959
CREATED:20251104T004536Z
LAST-MODIFIED:20251105T230437Z
UID:25188-1785110400-1785196799@www.coxhealthfoundation.com
SUMMARY:MVP3 Golf Tournament July 27\, 2026 - Highland Springs
DESCRIPTION:Join us for the 2026 MVP 3 Golf Tournaments: July 27\, 2026 at Highland Springs Country Club in Springfield\n(Second opportunity – October 12\, 2026 at Buffalo Ridge Golf Course in Hollister\, MO) \nSponsorships are now available! Call early and ensure your tee times and locations as both events sell out annually. This is a four-person scramble format with lots of great food\, fun and prizes. Sponsors can also “buy-in” to play with a CoxHealth leader!   For more information contact Chris Ijames at 417-269-7037 or chris.ijames@coxhealth.com \nSee Full Packet \nJuly 27\, 2026\nTee Times: 8am or 2PM\nHighland Springs Country Club\nSpringfield\, MO\n8AM Tee Time Includes:\n\nBreakfast\nTee Gift\nSnacks & Drinks on the Course\nLunch\nAwards\n\n2PM Tee Time Includes:\n\nLunch\nTee Gift\nSnacks & Drinks on the Course\nPost Game Meal\nAwards\n\n  \n\n\n                \n                        \n                            MVP3 2026 Golf Tournament\n                             \n							"*" indicates required fields \n                        					\n						Δ\n						\n						\n\n					\n                        NameThis field is for validation purposes and should be left unchanged.Select Date\n								\n								July 27\, 2026 | Highland Springs\n							\n								\n								October 12\, 2026 | Buffalo Ridge\n							Registration DetailsCompany (If applicable)Name (Contact Person)*\n                            \n                            \n                                                    \n                                                    First\n                                                \n                            \n                            \n                                                    \n                                                    Last\n                                                \n                            \n                        Email*\n                            \n                        Phone*Address*    \n                    \n                         \n                                        \n                                        Street Address\n                                    \n                                        \n                                        Address Line 2\n                                    \n                                    \n                                    City\n                                 \n                                        AlabamaAlaskaAmerican SamoaArizonaArkansasCaliforniaColoradoConnecticutDelawareDistrict of ColumbiaFloridaGeorgiaGuamHawaiiIdahoIllinoisIndianaIowaKansasKentuckyLouisianaMaineMarylandMassachusettsMichiganMinnesotaMississippiMissouriMontanaNebraskaNevadaNew HampshireNew JerseyNew MexicoNew YorkNorth CarolinaNorth DakotaNorthern Mariana IslandsOhioOklahomaOregonPennsylvaniaPuerto RicoRhode IslandSouth CarolinaSouth DakotaTennesseeTexasUtahU.S. Virgin IslandsVermontVirginiaWashingtonWest VirginiaWisconsinWyomingArmed Forces AmericasArmed Forces EuropeArmed Forces Pacific\n                                        State\n                                      \n                                    \n                                    ZIP Code\n                                \n                    \n                Sponsorship LevelSelect Sponsorship Level*\n			\n					\n					Presenting Sponsor $10\,000\n			\n			\n					\n					CoxHealth Cart Sponsor $7\,500\n			\n			\n					\n					Tournament Gift Sponsor $5\,000 - (Limit 1)\n			\n			\n					\n					Team Sponsor / Highland Springs  $2\,500\n			\n			\n					\n					Team Sponsor / Buffalo Ridge $3\,000\n			Additional Sponsorship\n			\n					\n					None\n			\n			\n					\n					Hole Sponsor - $500\n			Pair with a Leader (Select a Sponsorship Level of $2\,500 and above to be eligible to play a round with a CoxHealth leader for an additional fee.) - Limited Opportunity!Lock in your chosen leader\n			\n					\n					Max Buetow\, President and CEO / Highland Springs - $1\,500\n			\n			\n					\n					Jacob McWay\, Executive VP & CFO / Highland Springs - $1\,000\n			\n			\n					\n					Jacob McWay\, Executive VP & CFO / Buffalo Ridge - $1\,000\n			\n			\n					\n					Dr Shawn Usery\, Chief Medical Officer / Highland Springs - $1\,000\n			\n			\n					\n					Dr Shawn Usery\, Chief Medical Officer / Buffalo Ridge - $1\,000\n			\n			\n					\n					Brock Shamel\, Senior VP of Operations / Highland Springs - $1\,000\n			\n			\n					\n					Brock Shamel\, Senior VP of Operations / Buffalo Ridge - $1\,000\n			\n			\n					\n					William Mahoney\, President\, Cox Medical Center Branson / Highland Springs - $1\,000\n			\n			\n					\n					William Mahoney\, President\, Cox Medical Center Branson / Buffalo Ridge - $1\,000\n			\n			\n					\n					Matt Turner\, VP of Operations / Highland Springs - $1\,000\n			\n			\n					\n					Matt Turner\, VP of Operations / Buffalo Ridge - $1\,000\n			\n			\n					\n					Bryan Williams\, VP of Operations / Highland Springs - $1\,000\n			\n			\n					\n					Bryan Williams\, VP of Operations / Buffalo Ridge - $1\,000\n			\n			\n					\n					Andy Hedgepeth\, VP of Human Resources / Highland Springs - $1\,000\n			\n			\n					\n					Andy Hedgepeth\, VP of Human Resources / Buffalo Ridge - $1\,000\n			\n			\n					\n					John Chastain\, VP of Finance & Revenue Cycle / Highland Springs - $1\,000\n			\n			\n					\n					John Chastain\, VP of Finance & Revenue Cycle / Buffalo Ridge - $1\,000\n			Payment DetailsTotal\n							\n						Credit Card*\n                                    DiscoverMasterCardVisaSupported Credit Cards: Discover\, MasterCard\, Visa\n                                    \n                                    Card Number\n                                 \n                                            \n                                            Expiration Date\n                                                \n                                                   \n                                                       Month\n                                                       \n                                                           Month010203040506070809101112\n                                                       \n                                                   \n                                                   \n                                                       Year\n                                                       \n                                                           Year20262027202820292030203120322033203420352036203720382039204020412042204320442045\n                                                       \n                                                   \n                                                \n                                            \n                                                \n                                                 \n                                                Security Code\n                                             \n                                        \n                                            \n                                            Cardholder Name\n                                         \n          \n            \n            \n            \n            \n            \n            \n            \n            \n            \n            \n            \n            \n            \n        \n                        \n                        \n\n  \n 
URL:https://www.coxhealthfoundation.com/event/mvp3-golf-tournament-2026-highland-springs/
LOCATION:Highland Springs Country Club
ATTACH;FMTTYPE=image/jpeg:https://www.coxhealthfoundation.com/wp-content/uploads/MVP2026.jpg
END:VEVENT
BEGIN:VEVENT
DTSTART;VALUE=DATE:20261012
DTEND;VALUE=DATE:20261013
DTSTAMP:20260422T165959
CREATED:20251105T002559Z
LAST-MODIFIED:20251105T230238Z
UID:25200-1791763200-1791849599@www.coxhealthfoundation.com
SUMMARY:MVP3 Golf Tournament October 12\, 2026 - Buffalo Ridge Golf Course
DESCRIPTION:Join us for the 2026 MVP 3 Golf Tournaments: \nOctober 12\, 2026 at Buffalo Ridge Golf Course\, Hollister\, MO\n(Other Available Date – July 27\, 2026 – Highland Springs Country Club) \nSponsorships are now available! Call early and ensure your tee times and locations as both events sell out annually. This is a four-person scramble format with lots of great food\, fun and prizes. Sponsors can also “buy-in” to play with a CoxHealth leader!   For more information contact Chris Ijames at 417-269-7037 or chris.ijames@coxhealth.com \nSee Full Packet \nOctober 12\, 2026\nTee Time: 9:30am\nBuffalo Ridge Golf Course\nHollister\, MO\n9:30AM Tee Time Includes:\n\nBoxed Lunch\nTee Gift\nSnacks & Drinks on the Course\nAwards\n\nPLEASE NOTE: MVP3 TOURNAMENT CAPACITY IS LIMITED TO ONLY 36 TEAMS\n  \n\n                \n                        \n                            MVP3 2026 Golf Tournament\n                             \n							"*" indicates required fields \n                        					\n						Δ\n						\n						\n\n					\n                        EmailThis field is for validation purposes and should be left unchanged.Select Date\n								\n								July 27\, 2026 | Highland Springs\n							\n								\n								October 12\, 2026 | Buffalo Ridge\n							Registration DetailsCompany (If applicable)Name (Contact Person)*\n                            \n                            \n                                                    \n                                                    First\n                                                \n                            \n                            \n                                                    \n                                                    Last\n                                                \n                            \n                        Email*\n                            \n                        Phone*Address*    \n                    \n                         \n                                        \n                                        Street Address\n                                    \n                                        \n                                        Address Line 2\n                                    \n                                    \n                                    City\n                                 \n                                        AlabamaAlaskaAmerican SamoaArizonaArkansasCaliforniaColoradoConnecticutDelawareDistrict of ColumbiaFloridaGeorgiaGuamHawaiiIdahoIllinoisIndianaIowaKansasKentuckyLouisianaMaineMarylandMassachusettsMichiganMinnesotaMississippiMissouriMontanaNebraskaNevadaNew HampshireNew JerseyNew MexicoNew YorkNorth CarolinaNorth DakotaNorthern Mariana IslandsOhioOklahomaOregonPennsylvaniaPuerto RicoRhode IslandSouth CarolinaSouth DakotaTennesseeTexasUtahU.S. Virgin IslandsVermontVirginiaWashingtonWest VirginiaWisconsinWyomingArmed Forces AmericasArmed Forces EuropeArmed Forces Pacific\n                                        State\n                                      \n                                    \n                                    ZIP Code\n                                \n                    \n                Sponsorship LevelSelect Sponsorship Level*\n			\n					\n					Presenting Sponsor $10\,000\n			\n			\n					\n					CoxHealth Cart Sponsor $7\,500\n			\n			\n					\n					Tournament Gift Sponsor $5\,000 - (Limit 1)\n			\n			\n					\n					Team Sponsor / Highland Springs  $2\,500\n			\n			\n					\n					Team Sponsor / Buffalo Ridge $3\,000\n			Additional Sponsorship\n			\n					\n					None\n			\n			\n					\n					Hole Sponsor - $500\n			Pair with a Leader (Select a Sponsorship Level of $2\,500 and above to be eligible to play a round with a CoxHealth leader for an additional fee.) - Limited Opportunity!Lock in your chosen leader\n			\n					\n					Max Buetow\, President and CEO / Highland Springs - $1\,500\n			\n			\n					\n					Jacob McWay\, Executive VP & CFO / Highland Springs - $1\,000\n			\n			\n					\n					Jacob McWay\, Executive VP & CFO / Buffalo Ridge - $1\,000\n			\n			\n					\n					Dr Shawn Usery\, Chief Medical Officer / Highland Springs - $1\,000\n			\n			\n					\n					Dr Shawn Usery\, Chief Medical Officer / Buffalo Ridge - $1\,000\n			\n			\n					\n					Brock Shamel\, Senior VP of Operations / Highland Springs - $1\,000\n			\n			\n					\n					Brock Shamel\, Senior VP of Operations / Buffalo Ridge - $1\,000\n			\n			\n					\n					William Mahoney\, President\, Cox Medical Center Branson / Highland Springs - $1\,000\n			\n			\n					\n					William Mahoney\, President\, Cox Medical Center Branson / Buffalo Ridge - $1\,000\n			\n			\n					\n					Matt Turner\, VP of Operations / Highland Springs - $1\,000\n			\n			\n					\n					Matt Turner\, VP of Operations / Buffalo Ridge - $1\,000\n			\n			\n					\n					Bryan Williams\, VP of Operations / Highland Springs - $1\,000\n			\n			\n					\n					Bryan Williams\, VP of Operations / Buffalo Ridge - $1\,000\n			\n			\n					\n					Andy Hedgepeth\, VP of Human Resources / Highland Springs - $1\,000\n			\n			\n					\n					Andy Hedgepeth\, VP of Human Resources / Buffalo Ridge - $1\,000\n			\n			\n					\n					John Chastain\, VP of Finance & Revenue Cycle / Highland Springs - $1\,000\n			\n			\n					\n					John Chastain\, VP of Finance & Revenue Cycle / Buffalo Ridge - $1\,000\n			Payment DetailsTotal\n							\n						Credit Card*\n                                    DiscoverMasterCardVisaSupported Credit Cards: Discover\, MasterCard\, Visa\n                                    \n                                    Card Number\n                                 \n                                            \n                                            Expiration Date\n                                                \n                                                   \n                                                       Month\n                                                       \n                                                           Month010203040506070809101112\n                                                       \n                                                   \n                                                   \n                                                       Year\n                                                       \n                                                           Year20262027202820292030203120322033203420352036203720382039204020412042204320442045\n                                                       \n                                                   \n                                                \n                                            \n                                                \n                                                 \n                                                Security Code\n                                             \n                                        \n                                            \n                                            Cardholder Name\n                                         \n          \n            \n            \n            \n            \n            \n            \n            \n            \n            \n            \n            \n            \n            \n        \n                        \n                        \n\n  \n 
URL:https://www.coxhealthfoundation.com/event/mvp3-golf-tournament-october-12/
LOCATION:Buffalo Ridge Golf Course\, 1001 Buffalo Rdg Blvd\, Hollister\, MO\, 65672
ATTACH;FMTTYPE=image/jpeg:https://www.coxhealthfoundation.com/wp-content/uploads/MVP2026.jpg
END:VEVENT
END:VCALENDAR