BEGIN:VCALENDAR
VERSION:2.0
PRODID:-//CoxHealth Foundation - ECPv6.15.20//NONSGML v1.0//EN
CALSCALE:GREGORIAN
METHOD:PUBLISH
X-WR-CALNAME:CoxHealth Foundation
X-ORIGINAL-URL:https://www.coxhealthfoundation.com
X-WR-CALDESC:Events for CoxHealth Foundation
REFRESH-INTERVAL;VALUE=DURATION:PT1H
X-Robots-Tag:noindex
X-PUBLISHED-TTL:PT1H
BEGIN:VTIMEZONE
TZID:America/Chicago
BEGIN:DAYLIGHT
TZOFFSETFROM:-0600
TZOFFSETTO:-0500
TZNAME:CDT
DTSTART:20230312T080000
END:DAYLIGHT
BEGIN:STANDARD
TZOFFSETFROM:-0500
TZOFFSETTO:-0600
TZNAME:CST
DTSTART:20231105T070000
END:STANDARD
BEGIN:DAYLIGHT
TZOFFSETFROM:-0600
TZOFFSETTO:-0500
TZNAME:CDT
DTSTART:20240310T080000
END:DAYLIGHT
BEGIN:STANDARD
TZOFFSETFROM:-0500
TZOFFSETTO:-0600
TZNAME:CST
DTSTART:20241103T070000
END:STANDARD
BEGIN:DAYLIGHT
TZOFFSETFROM:-0600
TZOFFSETTO:-0500
TZNAME:CDT
DTSTART:20250309T080000
END:DAYLIGHT
BEGIN:STANDARD
TZOFFSETFROM:-0500
TZOFFSETTO:-0600
TZNAME:CST
DTSTART:20251102T070000
END:STANDARD
END:VTIMEZONE
BEGIN:VEVENT
DTSTART;VALUE=DATE:20240718
DTEND;VALUE=DATE:20241031
DTSTAMP:20260424T123155
CREATED:20240717T220323Z
LAST-MODIFIED:20241203T155048Z
UID:24300-1721260800-1730332799@www.coxhealthfoundation.com
SUMMARY:KC Chiefs Ticket Raffle
DESCRIPTION:KC Chiefs Tickets (2) and Parking Pass – November 29\, 2:00pm game –\nSee the Chiefs vs the Raiders. Tickets are for section 115\, Row 16\, seats 13-14\nProceeds will go to Cox College’s Student Emergency Fund\, benefiting students directly in need.\nRaffle to run August 6th to October 29th\nWinner will be drawn October 30th announced via Cox College’s social media\nTickets are 1 for $10 or 3 for $20\nTicket sales open August 6!
URL:https://www.coxhealthfoundation.com/event/kc-chiefs-patrick-mahomes-sport-illustrated-autographed-piece/
ATTACH;FMTTYPE=image/png:https://www.coxhealthfoundation.com/wp-content/uploads/Chiefs_logo.png
END:VEVENT
BEGIN:VEVENT
DTSTART;TZID=America/Chicago:20240729T080000
DTEND;TZID=America/Chicago:20240729T170000
DTSTAMP:20260424T123155
CREATED:20240307T185514Z
LAST-MODIFIED:20240308T151218Z
UID:24222-1722240000-1722272400@www.coxhealthfoundation.com
SUMMARY:MVP3 Golf Tournament
DESCRIPTION:Monday\, July 29\, 2024\nHighland Springs Country Club\nNew name\, new mission\, but same great golf tournament!\nFor more information and to secure your sponsored team call us at 417-269-7037 or chris.ijames@coxhealth.com \nClick below to see the entire brochure!
URL:https://www.coxhealthfoundation.com/event/mvp3-golf-tournament/
LOCATION:Highland Springs Country Club
ATTACH;FMTTYPE=image/jpeg:https://www.coxhealthfoundation.com/wp-content/uploads/featured_mvp3.jpg
END:VEVENT
END:VCALENDAR