BEGIN:VCALENDAR
VERSION:2.0
PRODID:-//CoxHealth Foundation - ECPv6.15.20//NONSGML v1.0//EN
CALSCALE:GREGORIAN
METHOD:PUBLISH
X-ORIGINAL-URL:https://www.coxhealthfoundation.com
X-WR-CALDESC:Events for CoxHealth Foundation
REFRESH-INTERVAL;VALUE=DURATION:PT1H
X-Robots-Tag:noindex
X-PUBLISHED-TTL:PT1H
BEGIN:VTIMEZONE
TZID:America/Chicago
BEGIN:DAYLIGHT
TZOFFSETFROM:-0600
TZOFFSETTO:-0500
TZNAME:CDT
DTSTART:20230312T080000
END:DAYLIGHT
BEGIN:STANDARD
TZOFFSETFROM:-0500
TZOFFSETTO:-0600
TZNAME:CST
DTSTART:20231105T070000
END:STANDARD
BEGIN:DAYLIGHT
TZOFFSETFROM:-0600
TZOFFSETTO:-0500
TZNAME:CDT
DTSTART:20240310T080000
END:DAYLIGHT
BEGIN:STANDARD
TZOFFSETFROM:-0500
TZOFFSETTO:-0600
TZNAME:CST
DTSTART:20241103T070000
END:STANDARD
BEGIN:DAYLIGHT
TZOFFSETFROM:-0600
TZOFFSETTO:-0500
TZNAME:CDT
DTSTART:20250309T080000
END:DAYLIGHT
BEGIN:STANDARD
TZOFFSETFROM:-0500
TZOFFSETTO:-0600
TZNAME:CST
DTSTART:20251102T070000
END:STANDARD
END:VTIMEZONE
BEGIN:VEVENT
DTSTART;VALUE=DATE:20240718
DTEND;VALUE=DATE:20241031
DTSTAMP:20260424T083056
CREATED:20240717T220323Z
LAST-MODIFIED:20241203T155048Z
UID:24300-1721260800-1730332799@www.coxhealthfoundation.com
SUMMARY:KC Chiefs Ticket Raffle
DESCRIPTION:KC Chiefs Tickets (2) and Parking Pass – November 29\, 2:00pm game –\nSee the Chiefs vs the Raiders. Tickets are for section 115\, Row 16\, seats 13-14\nProceeds will go to Cox College’s Student Emergency Fund\, benefiting students directly in need.\nRaffle to run August 6th to October 29th\nWinner will be drawn October 30th announced via Cox College’s social media\nTickets are 1 for $10 or 3 for $20\nTicket sales open August 6!
URL:https://www.coxhealthfoundation.com/event/kc-chiefs-patrick-mahomes-sport-illustrated-autographed-piece/
ATTACH;FMTTYPE=image/png:https://www.coxhealthfoundation.com/wp-content/uploads/Chiefs_logo.png
END:VEVENT
BEGIN:VEVENT
DTSTART;VALUE=DATE:20240827
DTEND;VALUE=DATE:20250101
DTSTAMP:20260424T083056
CREATED:20211026T210626Z
LAST-MODIFIED:20240827T195612Z
UID:22082-1724716800-1735689599@www.coxhealthfoundation.com
SUMMARY:Knot Forgotten
DESCRIPTION:VIEW BROCHURE \n\nPurchase a ribbon knot in honor or in memory of someone you love! It will adorn one of the twelve-foot Christmas trees in the Hulston Cancer Center Lobby\, Cox South Lobby or West Atrium. Each donation directly benefits the patients of Hulston Cancer Center through the Glauser Oncology Fund’s Patient Advocacy Program. \n  \n  \n  \n  \nSales have completed for this year.
URL:https://www.coxhealthfoundation.com/event/knot-forgotten/
ATTACH;FMTTYPE=image/jpeg:https://www.coxhealthfoundation.com/wp-content/uploads/CHF-KnotForgotten-letter_e.jpg
END:VEVENT
BEGIN:VEVENT
DTSTART;TZID=America/Chicago:20240912T090000
DTEND;TZID=America/Chicago:20240912T150000
DTSTAMP:20260424T083056
CREATED:20240807T200602Z
LAST-MODIFIED:20240807T201231Z
UID:24309-1726131600-1726153200@www.coxhealthfoundation.com
SUMMARY:Charting A Course for Community Health - Save the Date
DESCRIPTION:Join the CoxHealth Foundation for a dynamic meeting to explore strategic healthcare partnerships for future grant opportunities.\nAttendees will participate in facilitated conversations exploring how the combined strength of all attending organizations can be leveraged to secure federal and other grant funding. \nThe overarching goal of this gathering is to explore how strategic partnership opportunities can achieve local and regional goals for improved health and wellness for the populations we serve. Our aims will include improving access to care\, integrating healthcare education and workforce development\, identifying challenges\, meeting social determinants of health\, and improving sustainability. \nThe day will kick off with a presentation from Nancy Rios\, Regional Administrator from the Health Resources and Service Administration Office (HRSA). Attendees will also learn about upcoming federal grant opportunities\, as well as current grant funded health programs. \nTopics will include: \n\nUnlocking future federal grant opportunities to strengthen community health initiatives\nDeveloping collaborative programs and outreach strategies to improve access to healthcare\nBuilding thriving partnerships to create a more equitable and healthy future for Southwest Missouri\n\nRSVP: Didem Koroglu
URL:https://www.coxhealthfoundation.com/event/charting-a-course-for-community-health-save-the-date/
ATTACH;FMTTYPE=image/png:https://www.coxhealthfoundation.com/wp-content/uploads/Save-the-date-for-Health-Care-Summit.png
END:VEVENT
END:VCALENDAR