BEGIN:VCALENDAR
VERSION:2.0
PRODID:-//CoxHealth Foundation - ECPv6.15.20//NONSGML v1.0//EN
CALSCALE:GREGORIAN
METHOD:PUBLISH
X-ORIGINAL-URL:https://www.coxhealthfoundation.com
X-WR-CALDESC:Events for CoxHealth Foundation
REFRESH-INTERVAL;VALUE=DURATION:PT1H
X-Robots-Tag:noindex
X-PUBLISHED-TTL:PT1H
BEGIN:VTIMEZONE
TZID:America/Chicago
BEGIN:DAYLIGHT
TZOFFSETFROM:-0600
TZOFFSETTO:-0500
TZNAME:CDT
DTSTART:20250309T080000
END:DAYLIGHT
BEGIN:STANDARD
TZOFFSETFROM:-0500
TZOFFSETTO:-0600
TZNAME:CST
DTSTART:20251102T070000
END:STANDARD
BEGIN:DAYLIGHT
TZOFFSETFROM:-0600
TZOFFSETTO:-0500
TZNAME:CDT
DTSTART:20260308T080000
END:DAYLIGHT
BEGIN:STANDARD
TZOFFSETFROM:-0500
TZOFFSETTO:-0600
TZNAME:CST
DTSTART:20261101T070000
END:STANDARD
BEGIN:DAYLIGHT
TZOFFSETFROM:-0600
TZOFFSETTO:-0500
TZNAME:CDT
DTSTART:20270314T080000
END:DAYLIGHT
BEGIN:STANDARD
TZOFFSETFROM:-0500
TZOFFSETTO:-0600
TZNAME:CST
DTSTART:20271107T070000
END:STANDARD
END:VTIMEZONE
BEGIN:VEVENT
DTSTART;TZID=America/Chicago:20260306T173000
DTEND;TZID=America/Chicago:20260306T220000
DTSTAMP:20260422T112846
CREATED:20251103T194526Z
LAST-MODIFIED:20260303T145801Z
UID:25144-1772818200-1772834400@www.coxhealthfoundation.com
SUMMARY:Give A CRAP! 2026
DESCRIPTION:You are invited to GIVE A CRAP and help us save lives and fight a preventable cancer. Join us for the 16th Annual Colo-Rectal Awareness Party! This great night of dinner\, entertainment and education benefits the Colorectal Awareness Fund to help provide free colonoscopies for patients who need but cannot afford this important prevention test.\nMarch 6th\, 2026 White River Room at Bass Pro Shops 5:30pm – 10:00pm\nEVENING ITINERARY: \n\n5:30pm Doors Open\, Games Open\, Auction Preview\n6:30pm Dinner Served\n7:00pm The Real Rebutt; Dr. Ravinder Mankoo\n7:45pm Live Auction\n8:00pm Good Time Games\n9:00pm Grand Prize Drawing Guests may enter into any of the 5 Grand Prizes with their prize tickets!\n\nTo sponsor or reserve your table\, contact Lisa Alexander at 417-269-7109 or lisa.alexander@coxhealth.com or Chris Ijames at 417-269-7037 or chris.ijames@coxhealth.com \nThis event SELLS OUT annually\, so reserve your sponsorship today and make sure not to miss out on the most fun party of the year! \nFor more information click this link to our sponsorship brochure: \nSPONSORSHIP LEVELS: \n\n$1\,500 Table Sponsor: One table of 8. A bottle of wine and an outstanding meal plus a whole lot of fun!\n$2\,500 Colonoscopy Partner: Your gift helps provide another free screening to someone in need. Our thanks includes a table of 8\, two bottles of wine\, 4 prize tickets per guest\, stage recognition and signage.\n$5\,000 Education Partner: Your gift helps us educate the community on this important screening and guides them to the program. Our thanks includes two tables of 8\, two bottles of wine per table\, 8 prize tickets per guest\, stage recognition and signage at the Giant Colon.\n$7\,500 Program Enhancement Partner: Your gift allows us to provide follow-up care to patients where additional screening is needed. Our thanks includes three tables of 8\, two bottles of wine per table\, 12 prize tickets per guest\, stage recognition\, signage and AV recognition.\n$10\,000 Presenting Sponsor: your gift allows us to expand our program and help more patients this year. Our thanks includes four tables of 8\, two bottles of wine per table\, 18 prize tickets per guest\, stage recognition\, signage\, AV and Auction signage as well as ability to provide materials to guests at each table.\n\n\n  \n\nReserve Your Table\nThis event table reservations is closed.
URL:https://www.coxhealthfoundation.com/event/give-a-crap/
LOCATION:White River Conference Center
ATTACH;FMTTYPE=image/jpeg:https://www.coxhealthfoundation.com/wp-content/uploads/2026-CRAP-Sponsorship-email-1.jpg
END:VEVENT
BEGIN:VEVENT
DTSTART;VALUE=DATE:20260311
DTEND;VALUE=DATE:20260401
DTSTAMP:20260422T112846
CREATED:20260311T121240Z
LAST-MODIFIED:20260311T182652Z
UID:25324-1773187200-1775001599@www.coxhealthfoundation.com
SUMMARY:Met in Monett LIVE Art Auction
DESCRIPTION:The “Met in Monett” to benefit the Cox Monett Diabetes Prevention Fund saw artist Roberto Regalado of Laughingwell Studios doing a live art painting. That one of a kind piece is now complete and ready to be auctioned to the highest bidder. The painting portrays a Frisco train that once had Monett on its daily route. The artist used a photograph from the state historical archives to replicate the train as it was in that era. \nAbout the artist: Roberto Regalado began his career painting in southern California under the tutelage of renowned muralist Marv Brehm. Regalado’s skills were quickly recognized and his mural art became in demand across southern California in restaurants\, business and in private homes. His skills took him to Las Vegas where he provided large scale mural projects for some of the most famous casinos. After moving to Missouri\, Regalado and his wife Linda Spencer became the artists of choice of Johnny Morris\, Bass Pro and Cabela owner.  Their work can be viewed in more than 50 locations. The pair is also responsible for the Children’s Village\, the first hospital based community art project raising over $1 million dollars for the Children’s Miracle Network. \nTo bid on this beautiful piece\, please email CHF@coxhealth.com  or click here to place your bid through Handbid.  If submitting a bid by email\, please include your name\, phone number\, and bid amount. The auction will be open through March 31st. \nMinimum bid is $350
URL:https://www.coxhealthfoundation.com/event/met-in-monett-live-art-auction/
ATTACH;FMTTYPE=image/jpeg:https://www.coxhealthfoundation.com/wp-content/uploads/frisco-train.jpg
END:VEVENT
END:VCALENDAR